BEGIN:VCALENDAR
VERSION:2.0
PRODID:-//Teranet - ECPv6.15.0//NONSGML v1.0//EN
CALSCALE:GREGORIAN
METHOD:PUBLISH
X-ORIGINAL-URL:https://www.teranet.ca
X-WR-CALDESC:Events for Teranet
REFRESH-INTERVAL;VALUE=DURATION:PT1H
X-Robots-Tag:noindex
X-PUBLISHED-TTL:PT1H
BEGIN:VTIMEZONE
TZID:America/Toronto
BEGIN:DAYLIGHT
TZOFFSETFROM:-0500
TZOFFSETTO:-0400
TZNAME:EDT
DTSTART:20250309T070000
END:DAYLIGHT
BEGIN:STANDARD
TZOFFSETFROM:-0400
TZOFFSETTO:-0500
TZNAME:EST
DTSTART:20251102T060000
END:STANDARD
END:VTIMEZONE
BEGIN:VEVENT
DTSTART;VALUE=DATE:20251001
DTEND;VALUE=DATE:20251002
DTSTAMP:20260422T131020
CREATED:20250808T185533Z
LAST-MODIFIED:20250925T154743Z
UID:12038-1759276800-1759363199@www.teranet.ca
SUMMARY:BeSpatial From Concept to Reality: Bridging Digital Twins for Smarter Communities
DESCRIPTION:
URL:https://www.teranet.ca/event/bespatial-from-concept-to-reality-bridging-digital-twins-for-smarter-communities/
LOCATION:Ontario Ministry of Natural Resources\, 5 Wadsworth Dr\, Nipigon\, Ontario\, P0T 2J0\, Canada
ATTACH;FMTTYPE=image/png:https://www.teranet.ca/wp-content/uploads/2023/03/BeSpatial.png
END:VEVENT
END:VCALENDAR