BEGIN:VCALENDAR
VERSION:2.0
PRODID:-//Teranet - ECPv6.15.20//NONSGML v1.0//EN
CALSCALE:GREGORIAN
METHOD:PUBLISH
X-ORIGINAL-URL:https://www.teranet.ca
X-WR-CALDESC:Events for Teranet
REFRESH-INTERVAL;VALUE=DURATION:PT1H
X-Robots-Tag:noindex
X-PUBLISHED-TTL:PT1H
BEGIN:VTIMEZONE
TZID:America/Toronto
BEGIN:DAYLIGHT
TZOFFSETFROM:-0500
TZOFFSETTO:-0400
TZNAME:EDT
DTSTART:20220313T070000
END:DAYLIGHT
BEGIN:STANDARD
TZOFFSETFROM:-0400
TZOFFSETTO:-0500
TZNAME:EST
DTSTART:20221106T060000
END:STANDARD
BEGIN:DAYLIGHT
TZOFFSETFROM:-0500
TZOFFSETTO:-0400
TZNAME:EDT
DTSTART:20230312T070000
END:DAYLIGHT
BEGIN:STANDARD
TZOFFSETFROM:-0400
TZOFFSETTO:-0500
TZNAME:EST
DTSTART:20231105T060000
END:STANDARD
BEGIN:DAYLIGHT
TZOFFSETFROM:-0500
TZOFFSETTO:-0400
TZNAME:EDT
DTSTART:20240310T070000
END:DAYLIGHT
BEGIN:STANDARD
TZOFFSETFROM:-0400
TZOFFSETTO:-0500
TZNAME:EST
DTSTART:20241103T060000
END:STANDARD
END:VTIMEZONE
BEGIN:VEVENT
DTSTART;VALUE=DATE:20230420
DTEND;VALUE=DATE:20230421
DTSTAMP:20260424T104230
CREATED:20230321T155705Z
LAST-MODIFIED:20230321T155705Z
UID:10113-1681948800-1682035199@www.teranet.ca
SUMMARY:Law Society of Ontario 20th Real Estate Law Summit
DESCRIPTION:Law Society of Ontario 20th Real Estate Law Summit
URL:https://www.teranet.ca/event/law-society-of-ontario-20th-real-estate-law-summit/
LOCATION:Donald Lamont Learning Centre\, 130 Queen St. W\, Toronto\, O\, Canada
ATTACH;FMTTYPE=image/png:https://www.teranet.ca/wp-content/uploads/2023/03/Law-society-of-ontario.png
END:VEVENT
END:VCALENDAR