BEGIN:VCALENDAR
VERSION:2.0
PRODID:-//Teranet - ECPv6.15.20//NONSGML v1.0//EN
CALSCALE:GREGORIAN
METHOD:PUBLISH
X-ORIGINAL-URL:https://www.teranet.ca
X-WR-CALDESC:Events for Teranet
REFRESH-INTERVAL;VALUE=DURATION:PT1H
X-Robots-Tag:noindex
X-PUBLISHED-TTL:PT1H
BEGIN:VTIMEZONE
TZID:America/Toronto
BEGIN:DAYLIGHT
TZOFFSETFROM:-0500
TZOFFSETTO:-0400
TZNAME:EDT
DTSTART:20230312T070000
END:DAYLIGHT
BEGIN:STANDARD
TZOFFSETFROM:-0400
TZOFFSETTO:-0500
TZNAME:EST
DTSTART:20231105T060000
END:STANDARD
BEGIN:DAYLIGHT
TZOFFSETFROM:-0500
TZOFFSETTO:-0400
TZNAME:EDT
DTSTART:20240310T070000
END:DAYLIGHT
BEGIN:STANDARD
TZOFFSETFROM:-0400
TZOFFSETTO:-0500
TZNAME:EST
DTSTART:20241103T060000
END:STANDARD
BEGIN:DAYLIGHT
TZOFFSETFROM:-0500
TZOFFSETTO:-0400
TZNAME:EDT
DTSTART:20250309T070000
END:DAYLIGHT
BEGIN:STANDARD
TZOFFSETFROM:-0400
TZOFFSETTO:-0500
TZNAME:EST
DTSTART:20251102T060000
END:STANDARD
END:VTIMEZONE
BEGIN:VEVENT
DTSTART;VALUE=DATE:20240613
DTEND;VALUE=DATE:20240614
DTSTAMP:20260424T074959
CREATED:20240305T121813Z
LAST-MODIFIED:20240305T121813Z
UID:10800-1718236800-1718323199@www.teranet.ca
SUMMARY:Law Society of Ontario Solo and Small Firm Conference
DESCRIPTION:
URL:https://www.teranet.ca/event/law-society-of-ontario-solo-and-small-firm-conference/
LOCATION:Metro Toronto Convention Centre (MTCC) – North Building\, 255 Front Street West\, Toronto\, Ontario\, M5V 2W6\, Canada
ATTACH;FMTTYPE=image/png:https://www.teranet.ca/wp-content/uploads/2024/03/0002310.png
END:VEVENT
END:VCALENDAR