BEGIN:VCALENDAR
VERSION:2.0
PRODID:-//Teranet - ECPv6.15.0//NONSGML v1.0//EN
CALSCALE:GREGORIAN
METHOD:PUBLISH
X-ORIGINAL-URL:https://www.teranet.ca
X-WR-CALDESC:Events for Teranet
REFRESH-INTERVAL;VALUE=DURATION:PT1H
X-Robots-Tag:noindex
X-PUBLISHED-TTL:PT1H
BEGIN:VTIMEZONE
TZID:America/Toronto
BEGIN:DAYLIGHT
TZOFFSETFROM:-0500
TZOFFSETTO:-0400
TZNAME:EDT
DTSTART:20260308T070000
END:DAYLIGHT
BEGIN:STANDARD
TZOFFSETFROM:-0400
TZOFFSETTO:-0500
TZNAME:EST
DTSTART:20261101T060000
END:STANDARD
END:VTIMEZONE
BEGIN:VEVENT
DTSTART;TZID=America/Toronto:20260326T100000
DTEND;TZID=America/Toronto:20260326T150000
DTSTAMP:20260422T094109
CREATED:20260316T181109Z
LAST-MODIFIED:20260316T185113Z
UID:10000174-1774519200-1774537200@www.teranet.ca
SUMMARY:Cornerstone’s Housing Action & Solutions Expo
DESCRIPTION:Cornerstone’s Housing Action & Solutions Expo (CHASE) is a pivotal event focused on addressing today’s housing challenges through innovative and actionable strategies.
URL:https://www.teranet.ca/event/cornerstones-housing-action-solutions-expo/
LOCATION:Carmen’s Event Centre in Hamilton\, 1520 Stone Church Rd E\, Hamilton\, Ontario
ATTACH;FMTTYPE=image/png:https://www.teranet.ca/wp-content/uploads/2026/03/CHASE-Logo-5-1536x489-1.png
END:VEVENT
BEGIN:VEVENT
DTSTART;VALUE=DATE:20260413
DTEND;VALUE=DATE:20260415
DTSTAMP:20260422T094109
CREATED:20260316T181819Z
LAST-MODIFIED:20260317T181056Z
UID:10000176-1776038400-1776211199@www.teranet.ca
SUMMARY:CMBA BC Annual Conference & Trade Show
DESCRIPTION:Join us at the CMBA-BC Annual Conference & Trade Show 2026: Future Forward—two days designed to help mortgage professionals stay ahead in a rapidly evolving industry.
URL:https://www.teranet.ca/event/cmba-bc-conference-tradeshow-2/
LOCATION:JW Marriott Parq Vancouver\, 39 Smithe St\, Vancouver\, British Columbia\, V6B 0R3
ATTACH;FMTTYPE=image/jpeg:https://www.teranet.ca/wp-content/uploads/2026/03/CMBA_logo_lg-e1773771033406.jpg
END:VEVENT
BEGIN:VEVENT
DTSTART;VALUE=DATE:20260413
DTEND;VALUE=DATE:20260414
DTSTAMP:20260422T094109
CREATED:20260316T181448Z
LAST-MODIFIED:20260317T025645Z
UID:10000175-1776038400-1776124799@www.teranet.ca
SUMMARY:2026 CREA Leadership Summit
DESCRIPTION:CREA’s Leadership Summit brings together more than 300 real estate board and association leaders from across the country for a day of engaging speakers\, centred around effective leadership.
URL:https://www.teranet.ca/event/2026-crea-leadership-summit/
LOCATION:The Westin Ottawa\, 11 Colonel By Dr\, Ottawa\, Ontario\, K1N 9H4
ATTACH;FMTTYPE=image/png:https://www.teranet.ca/wp-content/uploads/2026/03/download-1.png
END:VEVENT
BEGIN:VEVENT
DTSTART;TZID=America/Toronto:20260422T083000
DTEND;TZID=America/Toronto:20260422T163000
DTSTAMP:20260422T094109
CREATED:20260316T185824Z
LAST-MODIFIED:20260316T185824Z
UID:10000177-1776846600-1776875400@www.teranet.ca
SUMMARY:Oakville\, Milton and District Real Estate Board’s Halton Symposium and Tradeshow
DESCRIPTION:
URL:https://www.teranet.ca/event/oakville-milton-and-district-real-estate-boards-halton-symposium-and-tradeshow/
LOCATION:The Oakville Conference Centre\, 2515 Wyecroft Road\, Oakville\, Ontario
ATTACH;FMTTYPE=image/png:https://www.teranet.ca/wp-content/uploads/2026/03/images.png
END:VEVENT
BEGIN:VEVENT
DTSTART;TZID=America/Toronto:20260423T080000
DTEND;TZID=America/Toronto:20260423T163000
DTSTAMP:20260422T094109
CREATED:20260317T180330Z
LAST-MODIFIED:20260317T180855Z
UID:10000189-1776931200-1776961800@www.teranet.ca
SUMMARY:CMBA Ontario Annual Conference & Trade Show
DESCRIPTION:
URL:https://www.teranet.ca/event/cmba-ontario-annual-conference-trade-show/
LOCATION:Universal Event Space\, 6250 Hwy 7\, Vaughan\, Ontario\, L4H 4G3\, Canada
ATTACH;FMTTYPE=image/png:https://www.teranet.ca/wp-content/uploads/2026/03/logo.png
END:VEVENT
BEGIN:VEVENT
DTSTART;VALUE=DATE:20260429
DTEND;VALUE=DATE:20260430
DTSTAMP:20260422T094109
CREATED:20260316T190251Z
LAST-MODIFIED:20260316T190251Z
UID:10000178-1777420800-1777507199@www.teranet.ca
SUMMARY:OACP and Blue Line Expo 2026
DESCRIPTION:
URL:https://www.teranet.ca/event/oacp-and-blue-line-expo-2026/
LOCATION:International Centre\, 6900 Airport Road\, Mississauga\, Ontario
ATTACH;FMTTYPE=image/png:https://www.teranet.ca/wp-content/uploads/2026/03/BL_LOGO-2.png
END:VEVENT
BEGIN:VEVENT
DTSTART;TZID=America/Toronto:20260429T090000
DTEND;TZID=America/Toronto:20260501T170000
DTSTAMP:20260422T094109
CREATED:20260317T024445Z
LAST-MODIFIED:20260317T024445Z
UID:10000179-1777453200-1777654800@www.teranet.ca
SUMMARY:AIC - ON Annual Conference
DESCRIPTION:
URL:https://www.teranet.ca/event/aic-on-annual-conference/
LOCATION:Kingston Marriott\, 285 King Street E\, Kingston\, Ontario
ATTACH;FMTTYPE=image/png:https://www.teranet.ca/wp-content/uploads/2026/03/aic-logo.png
END:VEVENT
BEGIN:VEVENT
DTSTART;VALUE=DATE:20260508
DTEND;VALUE=DATE:20260510
DTSTAMP:20260422T094109
CREATED:20260317T024710Z
LAST-MODIFIED:20260317T024944Z
UID:10000180-1778198400-1778371199@www.teranet.ca
SUMMARY:County of Carleton Law Association East Region Solicitors Conference
DESCRIPTION:
URL:https://www.teranet.ca/event/county-of-carleton-law-association-east-region-solicitors-conference-2/
LOCATION:Fairmont Tremblant\, 3045 Chemin de la Chapelle Citq\, Mont-Tremblant\, Quebec
ATTACH;FMTTYPE=image/jpeg:https://www.teranet.ca/wp-content/uploads/2026/03/logo1.jpg
END:VEVENT
BEGIN:VEVENT
DTSTART;VALUE=DATE:20260511
DTEND;VALUE=DATE:20260514
DTSTAMP:20260422T094109
CREATED:20260317T025330Z
LAST-MODIFIED:20260317T025554Z
UID:10000181-1778457600-1778716799@www.teranet.ca
SUMMARY:Institute of Law Clerks of Ontario Annual Conference
DESCRIPTION:The Institute of Law Clerks of Ontario is excited to announce its 33rd annual conference\, Law in the 6ix: Law Clerks Drawing Change! The conference will be packed with educational sessions\, informative keynotes\, and amazing networking opportunities. With over 20 sessions to choose from\, there’s something for everyone.
URL:https://www.teranet.ca/event/institute-of-law-clerks-of-ontario-annual-conference/
LOCATION:Hilton Toronto\, 145 Richmond Street West\, Toronto\, Ontario
ATTACH;FMTTYPE=image/svg+xml:https://www.teranet.ca/wp-content/uploads/2026/03/ilco-logo815d195ad0dd44229db5906e8acc585e.svg
END:VEVENT
BEGIN:VEVENT
DTSTART;VALUE=DATE:20260513
DTEND;VALUE=DATE:20260515
DTSTAMP:20260422T094109
CREATED:20260317T025931Z
LAST-MODIFIED:20260317T025931Z
UID:10000182-1778630400-1778803199@www.teranet.ca
SUMMARY:TRREB REALTOR® QUEST 2026
DESCRIPTION:Save the date for TRREB REALTOR® QUEST 2026\, Canada’s largest real estate conference and trade show\, on May 13 and 14 at the Toronto Congress Centre. Explore the latest trends and tools at Health Quest\, the International District\, Learning and Podcast Hubs\, and the REALTOR® STORE Pop-Up. Prepare for an unforgettable experience! Enjoy keynote speakers who will spark inspiration\, a dynamic speaker series filled with innovators and industry leaders\, and an expansive trade show floor with over 200 exhibitors.
URL:https://www.teranet.ca/event/trreb-realtor-quest-2026/
LOCATION:Toronto Congress Centre\, 650 Dixon Rd\, Etobicoke\, Ontario
ATTACH;FMTTYPE=image/png:https://www.teranet.ca/wp-content/uploads/2026/03/realtor_quest_logo.png
END:VEVENT
BEGIN:VEVENT
DTSTART;VALUE=DATE:20260526
DTEND;VALUE=DATE:20260527
DTSTAMP:20260422T094109
CREATED:20260317T030222Z
LAST-MODIFIED:20260317T030252Z
UID:10000183-1779753600-1779839999@www.teranet.ca
SUMMARY:Bespatial'26 BeInspired Annual Conference
DESCRIPTION:Exhibiting and Presenting at BeSpatial Ontario Annual Event – BeInspired. Theme: Stories of Geospatial Greatness
URL:https://www.teranet.ca/event/bespatial26-beinspired-annual-conference/
LOCATION:Burlington Holiday Inn and Conference Centre\, 3063 S Service Rd Building 2\, Burlington\, Ontario
ATTACH;FMTTYPE=image/svg+xml:https://www.teranet.ca/wp-content/uploads/2026/03/BeInspired26-Banner.svg
END:VEVENT
BEGIN:VEVENT
DTSTART;TZID=America/Toronto:20260531T090000
DTEND;TZID=America/Toronto:20260603T170000
DTSTAMP:20260422T094109
CREATED:20260317T030557Z
LAST-MODIFIED:20260317T030557Z
UID:10000184-1780218000-1780506000@www.teranet.ca
SUMMARY:OACP Annual Conference 2026
DESCRIPTION:The Ontario Association of Chiefs of Police (OACP) will celebrate 75 years of serving Ontario’s senior police leaders and communities at its 2026 Annual Conference in Niagara Falls\, ON
URL:https://www.teranet.ca/event/oacp-annual-conference-2026/
LOCATION:Sheraton Fallsview Hotel\, 5875 Falls Ave\, Niagara Falls\, Ontario
ATTACH;FMTTYPE=image/svg+xml:https://www.teranet.ca/wp-content/uploads/2026/03/logo-dark.svg
END:VEVENT
BEGIN:VEVENT
DTSTART;VALUE=DATE:20260605
DTEND;VALUE=DATE:20260606
DTSTAMP:20260422T094109
CREATED:20260317T030828Z
LAST-MODIFIED:20260317T030828Z
UID:10000185-1780617600-1780703999@www.teranet.ca
SUMMARY:Law Society of Ontario 20th Solo & Small Firm Conference
DESCRIPTION:20th Solo and Small Firm Conference: Building your Future-Ready Firm. Discover why integrated technology and AI is a game-changer for exceptional client service at this year’s Solo/Small conference. 
URL:https://www.teranet.ca/event/law-society-of-ontario-20th-solo-small-firm-conference/
LOCATION:Chestnut Conference Centre\, 89 Chestnut Street\, Toronto\, Ontario
ATTACH;FMTTYPE=image/png:https://www.teranet.ca/wp-content/uploads/2026/03/0005732.png
END:VEVENT
BEGIN:VEVENT
DTSTART;VALUE=DATE:20260607
DTEND;VALUE=DATE:20260611
DTSTAMP:20260422T094109
CREATED:20260317T031141Z
LAST-MODIFIED:20260317T031141Z
UID:10000186-1780790400-1781135999@www.teranet.ca
SUMMARY:2026 MISA Ontario Annual Conference & Trade Show
DESCRIPTION:The MISA Ontario 2026 Annual Conference & Trade Show is taking place on June 7-10\, 2026\, at RBC Place\, proudly hosted by Middlesex County and the City of London. As the premier event for municipal IT professionals\, this conference is designed to empower attendees with the knowledge and connections needed to excel in their roles.
URL:https://www.teranet.ca/event/2026-misa-ontario-annual-conference-trade-show/
LOCATION:RBC Place London\, 300 York St\, London\, Ontario
ATTACH;FMTTYPE=image/png:https://www.teranet.ca/wp-content/uploads/2026/03/fOcfiojW_342546.png
END:VEVENT
BEGIN:VEVENT
DTSTART;TZID=America/Toronto:20260608T090000
DTEND;TZID=America/Toronto:20260610T170000
DTSTAMP:20260422T094109
CREATED:20260317T031516Z
LAST-MODIFIED:20260317T031557Z
UID:10000187-1780909200-1781110800@www.teranet.ca
SUMMARY:CREA AE Seminar
DESCRIPTION:The Association Executives Network (AEN) represents senior leadership from real estate boards and associations across Canada. More than 120 of these decision makers attend this professional development seminar
URL:https://www.teranet.ca/event/crea-ae-seminar/
LOCATION:The Westin Edmonton\, 10135 100 St NW\, Edmonton\, Alberta
ATTACH;FMTTYPE=image/png:https://www.teranet.ca/wp-content/uploads/2026/03/download-1.png
END:VEVENT
END:VCALENDAR