BEGIN:VCALENDAR
VERSION:2.0
PRODID:-//Teranet - ECPv6.15.20//NONSGML v1.0//EN
CALSCALE:GREGORIAN
METHOD:PUBLISH
X-ORIGINAL-URL:https://www.teranet.ca
X-WR-CALDESC:Events for Teranet
REFRESH-INTERVAL;VALUE=DURATION:PT1H
X-Robots-Tag:noindex
X-PUBLISHED-TTL:PT1H
BEGIN:VTIMEZONE
TZID:America/Toronto
BEGIN:DAYLIGHT
TZOFFSETFROM:-0500
TZOFFSETTO:-0400
TZNAME:EDT
DTSTART:20210314T070000
END:DAYLIGHT
BEGIN:STANDARD
TZOFFSETFROM:-0400
TZOFFSETTO:-0500
TZNAME:EST
DTSTART:20211107T060000
END:STANDARD
BEGIN:DAYLIGHT
TZOFFSETFROM:-0500
TZOFFSETTO:-0400
TZNAME:EDT
DTSTART:20220313T070000
END:DAYLIGHT
BEGIN:STANDARD
TZOFFSETFROM:-0400
TZOFFSETTO:-0500
TZNAME:EST
DTSTART:20221106T060000
END:STANDARD
BEGIN:DAYLIGHT
TZOFFSETFROM:-0500
TZOFFSETTO:-0400
TZNAME:EDT
DTSTART:20230312T070000
END:DAYLIGHT
BEGIN:STANDARD
TZOFFSETFROM:-0400
TZOFFSETTO:-0500
TZNAME:EST
DTSTART:20231105T060000
END:STANDARD
BEGIN:DAYLIGHT
TZOFFSETFROM:-0500
TZOFFSETTO:-0400
TZNAME:EDT
DTSTART:20240310T070000
END:DAYLIGHT
BEGIN:STANDARD
TZOFFSETFROM:-0400
TZOFFSETTO:-0500
TZNAME:EST
DTSTART:20241103T060000
END:STANDARD
END:VTIMEZONE
BEGIN:VEVENT
DTSTART;VALUE=DATE:20230321
DTEND;VALUE=DATE:20230322
DTSTAMP:20260424T085629
CREATED:20230321T145512Z
LAST-MODIFIED:20230321T145512Z
UID:10000063-1679356800-1679443199@www.teranet.ca
SUMMARY:MPC Mortgage Symposium - Ottawa
DESCRIPTION:MPC Mortgage Symposium – Ottawa
URL:https://www.teranet.ca/event/mpc-mortgage-symposium-ottawa/
LOCATION:2901 Gibford Dr\, Infinity Convention Centre\, 2901 Gibford Dr\, Gloucester\, Ontario\, K1V 2L9\, Canada
ATTACH;FMTTYPE=image/png:https://www.teranet.ca/wp-content/uploads/2023/03/MPC-1.png
END:VEVENT
BEGIN:VEVENT
DTSTART;VALUE=DATE:20221202
DTEND;VALUE=DATE:20221203
DTSTAMP:20260424T085630
CREATED:20230321T144630Z
LAST-MODIFIED:20230321T144725Z
UID:10000062-1669939200-1670025599@www.teranet.ca
SUMMARY:Hamilton Law Association Members’ Appreciation Luncheon
DESCRIPTION:Hamilton Law Association Members’ Appreciation Luncheon
URL:https://www.teranet.ca/event/hamilton-law-association-members-appreciation-luncheon/
LOCATION:45 Main St E\, Hamilton\, 45 Main St E.\, Hamilton\, Ontario\, L8N 2B7\, Canada
END:VEVENT
BEGIN:VEVENT
DTSTART;VALUE=DATE:20221102
DTEND;VALUE=DATE:20221105
DTSTAMP:20260424T085630
CREATED:20220506T113631Z
LAST-MODIFIED:20220506T113631Z
UID:10000051-1667347200-1667606399@www.teranet.ca
SUMMARY:The Institute of Law Clerks of Ontario (ILCO) 30th ANNUAL CONFERENCE
DESCRIPTION:
URL:https://www.teranet.ca/event/the-institute-of-law-clerks-of-ontario-ilco-30th-annual-conference/
LOCATION:Queen’s Landing Hotel\, 155 Byron St\, Niagara-on-the-Lake\, Ontario\, L0S1J0\, Canada
ATTACH;FMTTYPE=image/png:https://www.teranet.ca/wp-content/uploads/2022/05/teranet-event-banner-–-6.png
END:VEVENT
BEGIN:VEVENT
DTSTART;TZID=America/Toronto:20221016T073000
DTEND;TZID=America/Toronto:20221017T190000
DTSTAMP:20260424T085630
CREATED:20220922T192046Z
LAST-MODIFIED:20220922T195907Z
UID:10000061-1665905400-1666033200@www.teranet.ca
SUMMARY:2022 National Mortgage Conference
DESCRIPTION:
URL:https://www.teranet.ca/event/2022-national-mortgage-conference/
LOCATION:Vancouver Convention Centre\, 1055 Canada Pl\, Vancouver\, British Columbia\, V6C 0C3\, Canada
ATTACH;FMTTYPE=image/webp:https://www.teranet.ca/wp-content/uploads/2022/09/NMC_EN_WEB_RETINA.jpg.webp
END:VEVENT
BEGIN:VEVENT
DTSTART;VALUE=DATE:20221013
DTEND;VALUE=DATE:20221015
DTSTAMP:20260424T085630
CREATED:20220519T184719Z
LAST-MODIFIED:20220519T184719Z
UID:10000057-1665619200-1665791999@www.teranet.ca
SUMMARY:Thunder Bay Law Association (TBLA) 2022 Fall Conference
DESCRIPTION:Teranet is proud to be a Silver Sponsor for the Luncheon on Friday\, October 14. Visit our booth to meet the Registry Solutions team and get the latest updates about SureFund\, WritFiling\, Teraview\, and OnLand.
URL:https://www.teranet.ca/event/thunder-bay-law-association-tbla-2022-fall-conference/
LOCATION:Victoria Inn Hotel & Convention Centre\, 555 Arthur Street West\, Thunder Bay\, Ontario\, P7E 5R5\, Canada
ATTACH;FMTTYPE=image/png:https://www.teranet.ca/wp-content/uploads/2022/05/teranet-event-banner-–-5.png
END:VEVENT
BEGIN:VEVENT
DTSTART;TZID=America/Toronto:20220921T070000
DTEND;TZID=America/Toronto:20220922T210000
DTSTAMP:20260424T085630
CREATED:20220720T164548Z
LAST-MODIFIED:20220720T164857Z
UID:10000060-1663743600-1663880400@www.teranet.ca
SUMMARY:2022 CFLA Annual National Conference
DESCRIPTION:
URL:https://www.teranet.ca/event/2022-cfla-annual-national-conference/
LOCATION:Delta Prince Edward\, 18 Queen St\, Charlottetown\, Prince Edward Island\, C1A 4A1
ATTACH;FMTTYPE=image/png:https://www.teranet.ca/wp-content/uploads/2022/07/CFLA-ACFL-logo.png
END:VEVENT
BEGIN:VEVENT
DTSTART;TZID=America/Toronto:20220608T130000
DTEND;TZID=America/Toronto:20220608T143000
DTSTAMP:20260424T085630
CREATED:20220521T012556Z
LAST-MODIFIED:20220521T012606Z
UID:10000059-1654693200-1654698600@www.teranet.ca
SUMMARY:Market Insight Forum: Innovation in Real Estate
DESCRIPTION:Teranet’s next Market Insight Forum is on June 8th. Join Teranet’s CIO\, Fariba Rawhani\, as she hosts Tim Hudak\, CEO of the Ontario Real Estate Association\, Jason Mercer\, Chief Market Analyst at Toronto Regional Real Estate Board and Joe Vaccaro\, Founder and President of RIOS. This esteemed panel will discuss how Canada’s real estate industry can focus on innovation to tackle challenges around affordability and housing supply. \nThis 90-minute virtual event has a limited number of registrations\, so make sure to secure your spot today: \nhttps://hopin.com/events/market-insight-forum-innovation-in-real-estate
URL:https://www.teranet.ca/event/market-insight-forum-innovation-in-real-estate/
LOCATION:Virtual Event
ATTACH;FMTTYPE=image/jpeg:https://www.teranet.ca/wp-content/uploads/2022/05/Market-Insight-Forum-IRE-LI1200x627-Register-1.jpg
END:VEVENT
BEGIN:VEVENT
DTSTART;TZID=America/Toronto:20220608T083000
DTEND;TZID=America/Toronto:20220609T180000
DTSTAMP:20260424T085630
CREATED:20220506T112031Z
LAST-MODIFIED:20220506T115344Z
UID:10000048-1654677000-1654797600@www.teranet.ca
SUMMARY:Alberta Mortgage Conference
DESCRIPTION:Teranet is pleased to sponsor the 2022 Alberta Mortgage Conference in Red Deer\, Alberta. The 2022 Alberta Mortgage Conference will be back in Red Deer once again\, with inspiring keynote presentations and panel conversations that reflect all aspects of the mortgage industry. Join us in-person at the 2022 Alberta Mortgage Conference to reconnect with your networks\, reimagine your business\, and renew your passion for the industry.
URL:https://www.teranet.ca/event/alberta-mortgage-conference/
LOCATION:Cambridge Hotel & Conference Centre\, 3310 50 Ave\, Red Deer\, Alberta\, T4N 3X9\, Canada
ATTACH;FMTTYPE=image/png:https://www.teranet.ca/wp-content/uploads/2022/05/teranet-event-banner-–-1008w.png
END:VEVENT
BEGIN:VEVENT
DTSTART;VALUE=DATE:20220605
DTEND;VALUE=DATE:20220609
DTSTAMP:20260424T085630
CREATED:20220506T110744Z
LAST-MODIFIED:20220506T181649Z
UID:10000046-1654387200-1654732799@www.teranet.ca
SUMMARY:2022 MISA Ontario Annual Conference and Trade Show
DESCRIPTION:[vc_row type=”in_container” full_screen_row_position=”middle” column_margin=”default” column_direction=”default” column_direction_tablet=”default” column_direction_phone=”default” scene_position=”center” text_color=”dark” text_align=”left” row_border_radius=”none” row_border_radius_applies=”bg” overflow=”visible” overlay_strength=”0.3″ gradient_direction=”left_to_right” shape_divider_position=”bottom” bg_image_animation=”none”][vc_column column_padding=”no-extra-padding” column_padding_tablet=”inherit” column_padding_phone=”inherit” column_padding_position=”all” column_element_spacing=”default” background_color_opacity=”1″ background_hover_color_opacity=”1″ column_shadow=”none” column_border_radius=”none” column_link_target=”_self” column_position=”default” gradient_direction=”left_to_right” overlay_strength=”0.3″ width=”1/1″ tablet_width_inherit=”default” tablet_text_alignment=”default” phone_text_alignment=”default” animation_type=”default” bg_image_animation=”none” border_type=”simple” column_border_width=”none” column_border_style=”solid”][vc_column_text]Visit Teranet’s Government & Utilities team at Booth #26 to learn how we connect governments\, utilities\, land professionals\, and commercial enterprises to the most authoritative source of critical property data\, including parcel mapping\, title data\, and advanced imagery-based solutions.[/vc_column_text][/vc_column][/vc_row]
URL:https://www.teranet.ca/event/2022-misa-ontario-annual-conference-and-trade-show/
LOCATION:RBC London Place\, 300 York St\, London\, Ontario\, N6B 1P8\, Canada
ATTACH;FMTTYPE=image/png:https://www.teranet.ca/wp-content/uploads/2022/05/teranet-event-banner-–-3.png
END:VEVENT
END:VCALENDAR