BEGIN:VCALENDAR
VERSION:2.0
PRODID:-//Teranet - ECPv6.15.0//NONSGML v1.0//EN
CALSCALE:GREGORIAN
METHOD:PUBLISH
X-ORIGINAL-URL:https://www.teranet.ca
X-WR-CALDESC:Events for Teranet
REFRESH-INTERVAL;VALUE=DURATION:PT1H
X-Robots-Tag:noindex
X-PUBLISHED-TTL:PT1H
BEGIN:VTIMEZONE
TZID:America/Toronto
BEGIN:DAYLIGHT
TZOFFSETFROM:-0500
TZOFFSETTO:-0400
TZNAME:EDT
DTSTART:20240310T070000
END:DAYLIGHT
BEGIN:STANDARD
TZOFFSETFROM:-0400
TZOFFSETTO:-0500
TZNAME:EST
DTSTART:20241103T060000
END:STANDARD
BEGIN:DAYLIGHT
TZOFFSETFROM:-0500
TZOFFSETTO:-0400
TZNAME:EDT
DTSTART:20250309T070000
END:DAYLIGHT
BEGIN:STANDARD
TZOFFSETFROM:-0400
TZOFFSETTO:-0500
TZNAME:EST
DTSTART:20251102T060000
END:STANDARD
END:VTIMEZONE
BEGIN:VEVENT
DTSTART;VALUE=DATE:20251023
DTEND;VALUE=DATE:20251024
DTSTAMP:20260422T050954
CREATED:20250905T163344Z
LAST-MODIFIED:20250925T155744Z
UID:10000166-1761177600-1761263999@www.teranet.ca
SUMMARY:OREB Tradeshow
DESCRIPTION:
URL:https://www.teranet.ca/event/oreb-tradeshow/
LOCATION:Ottawa Conference and Event Centre\, 200 Coventry Road\, Ottawa\, Ontario\, K1K 4S3\, Canada
ATTACH;FMTTYPE=image/png:https://www.teranet.ca/wp-content/uploads/2025/09/oreb_header_logo.png
END:VEVENT
BEGIN:VEVENT
DTSTART;VALUE=DATE:20250226
DTEND;VALUE=DATE:20250227
DTSTAMP:20260422T050954
CREATED:20241206T144127Z
LAST-MODIFIED:20250108T211114Z
UID:10000134-1740528000-1740614399@www.teranet.ca
SUMMARY:PSN Government Innovation Showcase - Federal
DESCRIPTION:In the dynamic landscape of the Federal Government\, innovation is the driving force propelling Canada towards a sustainable\, inclusive\, and prosperous future. Embracing mission-oriented objectives\, the nation tackles pressing challenges head-on\, seeking cutting-edge solutions to drive progress. From propelling digital governance to harnessing data analytics and transformative technologies\, the journey towards a pioneering tomorrow demands collaborative efforts and boundless ingenuity. \nJoin us for this high-octane event where trailblazers and decision-makers converge to unlock the potential of innovation within the public sector. Discover the latest breakthroughs\, explore transformative ideas\, and exchange insights that will shape a stronger\, more resilient Canada. Together\, let’s revolutionize the public sector and ignite a new era of progressive governance!
URL:https://www.teranet.ca/event/psn-government-innovation-showcase-federal/
LOCATION:Ottawa Conference and Event Centre\, 200 Coventry Road\, Ottawa\, Ontario\, K1K 4S3\, Canada
ATTACH;FMTTYPE=image/webp:https://www.teranet.ca/wp-content/uploads/2024/12/public-sector-network-feature-image-1.webp
END:VEVENT
BEGIN:VEVENT
DTSTART;TZID=America/Toronto:20241022T090000
DTEND;TZID=America/Toronto:20241022T160000
DTSTAMP:20260422T050954
CREATED:20241004T194235Z
LAST-MODIFIED:20241004T194235Z
UID:10000130-1729587600-1729612800@www.teranet.ca
SUMMARY:Ottawa Real Estate Board 27th Annual Trade Show
DESCRIPTION:
URL:https://www.teranet.ca/event/ottawa-real-estate-board-27th-annual-trade-show/
LOCATION:Ottawa Conference and Event Centre\, 200 Coventry Road\, Ottawa\, Ontario\, K1K 4S3\, Canada
ATTACH;FMTTYPE=image/png:https://www.teranet.ca/wp-content/uploads/2024/10/OTS_Logo.png
END:VEVENT
BEGIN:VEVENT
DTSTART;VALUE=DATE:20240326
DTEND;VALUE=DATE:20240327
DTSTAMP:20260422T050954
CREATED:20240111T174114Z
LAST-MODIFIED:20240111T174114Z
UID:10000090-1711411200-1711497599@www.teranet.ca
SUMMARY:OACP & Blue Line EXPO
DESCRIPTION:
URL:https://www.teranet.ca/event/oacp-blue-line-expo/
LOCATION:Ottawa Conference and Event Centre\, 200 Coventry Road\, Ottawa\, Ontario\, K1K 4S3\, Canada
ATTACH;FMTTYPE=image/jpeg:https://www.teranet.ca/wp-content/uploads/2024/01/BL_EXPO_2024.jpg
END:VEVENT
END:VCALENDAR