BEGIN:VCALENDAR
VERSION:2.0
PRODID:-//Teranet - ECPv6.15.0//NONSGML v1.0//EN
CALSCALE:GREGORIAN
METHOD:PUBLISH
X-ORIGINAL-URL:https://www.teranet.ca
X-WR-CALDESC:Events for Teranet
REFRESH-INTERVAL;VALUE=DURATION:PT1H
X-Robots-Tag:noindex
X-PUBLISHED-TTL:PT1H
BEGIN:VTIMEZONE
TZID:America/Toronto
BEGIN:DAYLIGHT
TZOFFSETFROM:-0500
TZOFFSETTO:-0400
TZNAME:EDT
DTSTART:20240310T070000
END:DAYLIGHT
BEGIN:STANDARD
TZOFFSETFROM:-0400
TZOFFSETTO:-0500
TZNAME:EST
DTSTART:20241103T060000
END:STANDARD
END:VTIMEZONE
BEGIN:VEVENT
DTSTART;VALUE=DATE:20240922
DTEND;VALUE=DATE:20240925
DTSTAMP:20260422T080536
CREATED:20240709T153301Z
LAST-MODIFIED:20240709T153301Z
UID:10000116-1726963200-1727222399@www.teranet.ca
SUMMARY:2024 CSRSA Conference – Innovation and Disruption: Strategies for Success
DESCRIPTION:
URL:https://www.teranet.ca/event/2024-csrsa-conference-innovation-and-disruption-strategies-for-success/
LOCATION:Westin Trillium House\, 220 Gord Canning Dr\, The Blue Mountains\, Ontario\, L9Y 0V9\, Canada
ATTACH;FMTTYPE=image/png:https://www.teranet.ca/wp-content/uploads/2024/07/logo.png
END:VEVENT
END:VCALENDAR